Workbook

Sheet Table 1
A1: Price Schedule (Table 1 of 9)
A2: A1
A3: Table 1: Haulage requirements from: CCBC MRF
A4: Site Address: CCBC, Bron-y-Nant Road, Mochdre, Conwy, LL28 4YL
A7: Item | B7: Designated Haulage Destination | C7: Operating hours | D7: Waste load type | E7: Max. pay load, P (tonnes) | F7: Unit | G7: Rate (£) | H7: Estimated number of trips per year | I7: Estimated cost per year (£)
A9: 1A | B9: Thorncliffe | C9: Mon – Fri 07:00–17:30 | D9: Residual waste | E9: 0 < P ≤ 8 | F9: Per Trip | H9: 403 | I9: =SUM(G9*H9) -> 0
B10: Rhuddlan Road, Abergele, LL22 9SE | C10: Sat – 07:00-13:00 | D10: Residual waste | E10: 8 < P ≤ 13 | F10: Per Trip | H10: 25 | I10: =SUM(G10*H10) -> 0
C11: Sun – Closed
A13: 1B | B13: CCBC Gofer Bulking Station | C13: Mon – Fri 07:00–16:00 | D13: Mixed Recycling | E13: 0 < P ≤ 7 | F13: Per Trip | H13: 113 | I13: =SUM(G13*H13) -> 0
B14: Rhuddlan Road, Abergele, LL22 9SE | C14: Closed Weekends | I14: =SUM(G14*H14) -> 0
A16: 1C | B16: Gwrtaith Gwynedd Cyf | C16: Mon – Fri 08:00 – 16:00 | D16: Street sweepings | E16: 0 < P ≤ 13 | F16: Per Trip | H16: 90 | I16: =SUM(G16*H16) -> 0
B17: Glanllynnau, Chwilog | C17: Closed Weekends | D17: Street sweepings | E17: 13.5 < P ≤ 27 | F17: Per Trip | H17: 210 | I17: =SUM(G17*H17) -> 0
I18: =SUM(G18*H18) -> 0
A19: 1D | B19: KM Construction | C19: Mon – Fri 09:00 – 16:00 | D19: Soil & Rubble | E19: 0 < P ≤ 8 | F19: Per Trip | H19: 6 | I19: =SUM(G19*H19) -> 0
B20: St Asaph, Denbighshire, LL17 0EL | C20: Closed Weekends | D20: Soil & Rubble | E20: 8 < P ≤ 18 | F20: Per Trip | H20: 35 | I20: =SUM(G20*H20) -> 0
A22: 1E | B22: Hogan Waste Ltd | C22: Mon – Fri 09:00 – 17:00 | D22: Wood | E22: 0 < P ≤ 7 | F22: Per Trip | H22: 15 | I22: =SUM(G22*H22) -> 0
B23: The Old Brickworks, Abergele Rd | C23: Sat – 07:00-13:00 | D23: Green Waste | E23: 0 < P ≤ 11 | F23: Per Trip | H23: 30 | I23: =SUM(G23*H23) -> 0
A25: 1F | B25: Flintshire County Council | C25: Mon - Sun 09:00 – 17:00 | D25: Green Waste | E25: 0 < P ≤ 11 | F25: Per Trip | H25: 30 | I25: =SUM(G25*H25) -> 0
B26: Greenfield Composting Site, Greenfield Business Park No2, Greenfield CH8 7GJ
A28: 1G | B28: G Lock Scrap Metal Processors | C28: Mon – Fri 08:00 – 17:00 | D28: Scrap Metal | E28: 0 < P ≤ 6 | F28: Per Trip | H28: 10 | I28: =SUM(G28*H28) -> 0
B29: Unit 14 Llandygai Industrial Estate, Llandygai, Bangor LL57 4YH | C29: Sat – 08:00-11:00
C30: Sun – Closed
H31: Total | I31: =SUM(I9:I28) -> 0

Sheet Table 2
A1: Price Schedule (Table 2 of 9)
A2: A2
A3: Table 2: Haulage requirements from: Gofer Bulking Station (GBS)
A4: Site Address: CCBC, Rhuddlan Road, Abergele, Conwy, LL22 9SE
A6: Item | B6: Designated Haulage Destination | C6: Operating hours | D6: Waste load type | E6: Max. pay load, P (tonnes) | F6: Unit | G6: Rate (£) | H6: Estimated number of trips per year | I6: Estimated cost per year (£)
A8: 2A | B8: Biogen Waen | C8: 08:00 to 17:00 (Mon – Fri) | D8: Food waste | E8: 8 < P ≤ 16 | F8: Per Trip | H8: 333 | I8: =SUM(G8*H8) -> 0
B9: Holywell Road, Saint Asaph, LL17 0DS | C9: Closed weekends
A11: 2B | B11: Biogen GwyriAD | C11: 08:00 to 17:00 (Mon – Fri) | D11: Food waste | E11: 8 < P ≤ 16 | F11: Per Trip | H11: 188 | I11: =SUM(G11*H11) -> 0
B12: Clynnog-Fawr, Caernarfon, LL54 5DF | C12: Closed weekends
A14: 2C | B14: Parry & Evans LTD | C14: 06:00 to 18:00 (Mon – Fri) | D14: Mixed Recycling | E14: 0 < P ≤ 3 | F14: Per Trip | H14: 4 | I14: =SUM(G14*H14) -> 0
B15: Unit 103, Zone 1, Deeside Industrial Estate, Deeside CH5 2LR | C15: Closed weekends | D15: Mixed Recycling | E15: 3.5 < P ≤ 11 | F15: Per Trip | H15: 14 | I15: =SUM(G16*H15) -> 0
A17: 2D | B17: MRF Site | C17: Mon – Fri 07:00 16:00 | D17: Mixed Recycling | E17: 0 < P ≤ 3 | F17: Per Trip | H17: 24 | I17: =SUM(G17*H17) -> 0
B18: Bron-y-Nant Road, Mochdre, Colwyn Bay, Conwy, LL28 4YL | C18: Closed weekends
H19: Total | I19: =SUM(I8:I18) -> 0

Sheet Table 3
A1: Price Schedule (Table 3 of 9)
A2: A3
A3: Table 3: Haulage requirements from: CCBC Highways Depot’s (x2) Llandudno Junction
A4: Site Address: CCBC Highways Depots, Plots 7 & 8, Ffordd Maelgwyn, Llandudno Junction, LL31 9PN
A6: Item | B6: Designated Haulage Destination | C6: Operating hours | D6: Waste load type | E6: Max. pay load, P (tonnes) | F6: Unit | G6: Rate (£) | H6: Estimated number of trips per year | I6: Estimated cost per year (£)
A8: 3A | B8: MRF Site | C8: Mon – Fri 07:00 - 16:00 | D8: Residual Waste | E8: 0 < P ≤ 2 | F8: Per Trip | H8: 3 | I8: =SUM(G8*H8) -> 0
B9: Bron-y-Nant Road, Mochdre, Colwyn Bay, Conwy, LL28 4YL | C9: Closed weekends | D9: Soil & Rubble | E9: 0 < P ≤ 7 | F9: Per Trip | H9: 2 | I9: =SUM(G9*H9) -> 0
E10: 7.5 < P ≤ 17 | F10: Per Trip | H10: 6 | I10: =SUM(G10*H10) -> 0
H12: Total | I12: =SUM(I8:I10) -> 0

Sheet Table 4
A1: Price Schedule (Table 4 of 9)
A2: A4
A3: Table 4: Haulage requirements from: CCBC Plas-y-Dre Depot, Llanrwst
A4: Site Address: CCBC Open Spaces Depot, Glasdir, Plas yn Dre, Llanrwst, Conwy, LL26 0DF
A6: Item | B6: Designated Haulage Destination | C6: Operating hours | D6: Waste load type | E6: Max. pay load, P (tonnes) | F6: Unit | G6: Rate (£) | H6: Estimated number of trips per year | I6: Estimated cost per year (£)
A8: 4A | B8: MRF Site | C8: Mon – Fri 07:00 16:00 | D8: Scrap Metal | E8: 0 < P ≤ 2 | F8: Per Trip | H8: 2 | I8: =SUM(G8*H8) -> 0
B9: Bron-y-Nant Road, Mochdre, Colwyn Bay, Conwy, LL28 4YL | C9: Closed weekends
A11: 4B | B11: Gwrtaith Gwynedd Cyf, Glanllynnau, Chwilog | C11: Mon – Fri 08:00 – 16:00 | D11: Street sweepings | E11: 0 < P ≤ 13 | F11: Per Trip | H11: 6 | I11: =SUM(G11*H11) -> 0
B12: Pwllheli, Gwynedd, LL53 6SJ | C12: Closed Weekends
H14: Total | I14: =SUM(I8:I13) -> 0

Sheet Table 5
A1: Price Schedule (Table 5 of 9)
A2: A5
A3: Table 5: Haulage requirements from: CCBC Builders Street Depot, Llandudno
A4: Site Address: CCBC Builders Street Depot, Builders Street, Llandudno, LL30 1HH
A6: Item | B6: Designated Haulage Destination | C6: Operating hours | D6: Waste load type | E6: Max. pay load, P (tonnes) | F6: Unit | G6: Rate (£) | H6: Estimated number of trips per year | I6: Estimated cost per year (£)
A8: 5A | B8: MRF Site | C8: Mon – Fri 07:00 16:00 | D8: Street Sweepings | E8: 0 < P ≤ 8 | F8: Per Trip | H8: 13 | I8: =SUM(G8*H8) -> 0
B9: Bron-y-Nant Road, Mochdre, Colwyn Bay, Conwy, LL28 4YL | D9: Soil & Rubble | E9: 0 < P ≤ 15.5 | F9: Per Trip | H9: 2 | I9: =SUM(G9*H9) -> 0
D10: Residual Waste | E10: 0 < P ≤ 8 | F10: Per Trip | H10: 4 | I10: =SUM(G10*H10) -> 0
H12: Total | I12: =SUM(I8:I11) -> 0

Sheet Table 6
A1: Price Schedule (Table 6 of 9)
A2: A6
A3: Table 6: Haulage requirements from: Central Resource Dept, Mochdre, Colwyn Bay.
A4: Site Address: Central Resource Depot, Blackmarsh Road, Mochdre, Colwyn Bay, LL28 5HA
A7: Item | B7: Designated Haulage Destination | C7: Operating hours | D7: Waste load type | E7: Max. pay load, P (tonnes) | F7: Unit | G7: Rate (£) | H7: Estimated number of trips per year | I7: Estimated cost per year (£)
A9: 6A | B9: MRF Site | C9: Mon – Fri 07:00 16:00 | D9: Residual Waste | E9: 0 < P ≤ 8 | F9: Per Trip | H9: 6 | I9: =SUM(G9*H9) -> 0
B10: Bron-y-Nant Road, Mochdre, Colwyn Bay, Conwy, LL28 4YL | D10: Scrap Metal | E10: 0 < P ≤ 8 | F10: Per Trip | H10: 6 | I10: =SUM(G10*H10) -> 0
H12: Total | I12: =SUM(I9:I11) -> 0

Sheet Table 7
A1: Price Schedule (Table 7 of 9)
A2: A7
A3: Table 7: Haulage requirements from: Site within 3 miles of LL22 8HH
B4: Operating Hours: 0700 to 1700 (Monday – Friday)
A6: Item | B6: Designated Haulage Destination | C6: Operating hours | D6: Waste load type | E6: Max. pay load, P (tonnes) | F6: Unit | G6: Rate (£) | H6: Estimated number of trips per year | I6: Estimated cost per year (£)
A8: 7A | B8: Gwrtaith Gwynedd Cyf, Glanllynnau, Chwilog | C8: Mon – Fri 08:00 – 16:00 | D8: Green Waste | E8: 13.5 < P ≤ 27 | H8: 65 | I8: =SUM(G8*H8) -> 0
B9: Pwllheli, Gwynedd, LL53 6SJ
C10: Closed Weekends
A11: 7B | B11: Flintshire County Council | C11: Mon - Sun 09:00 – 17:00 | D11: Green Waste | E11: 0 < P ≤ 25 | H11: 200 | I11: =SUM(G11*H11) -> 0
B12: Greenfield Composting Site, Greenfield Business Park No2, Greenfield CH8 7GJ
H14: Total | I14: =SUM(I8:I11) -> 0

Sheet Table 8
A1: Price Schedule (Table 8 of 9)
A2: A8
A3: Table 8: Haulage requirements for emergency and out-of-hours hourly rates
A5: Item | B5: Designated Haulage Destination | C5: Unit | D5: Rate (£) | E5: Estimated number of trips per year | F5: Estimated cost per year (£)
A7: 8A | B7: Emergency/Out of hours Waste Movements | C7: Per Hour | E7: 12 | F7: =SUM(D7*E7) -> 0
B8: (0700 – 2000 hours)
A9: 8B | B9: Emergency/Out of hours Waste Movements | C9: Per Hour | E9: 6 | F9: =SUM(D9*E9) -> 0
B10: (2000 – 0700 hours)
A11: 8C | B11: Emergency/Out of hours Waste Movements | C11: Per Hour | E11: 6 | F11: =SUM(D11*E11) -> 0
B12: Saturday & Sunday
A13: 8D | B13: Emergency/Out of hours Waste Movements | C13: Per Hour | E13: 5 | F13: =SUM(D13*E13) -> 0
B14: Bank Holidays
E15: Total | F15: =SUM(F7:F13) -> 0

Sheet Table 9
A1: Price Schedule (Table 9 of 9)
A2: A9
A3: Table 9: Any other costs considered applicable to the specified contract requirements (please detail below, if applicable):
A6: Item | B6: Details of other costs applicable to the specified contract requirements | C6: Unit | D6: Rate (£) | E6: Estimated number of trips per year | F6: Estimated cost per year (£)
A8: 9A | F8: =SUM(D8*E8) -> 0
A9: 9B | F9: =SUM(D9*E9) -> 0
A10: 9C
A11: 9D
A12: 9E
E13: Total | F13: =SUM(F8:F12) -> 0

Sheet Price Schedule - Summary
A1: Note to Tenderers: Please complete Tables 1 - 9 only. Please do not complete this table. The table contains pre-defined formulas and will be automatically populated using the data provided elsewhere within the pricing schedule. Any manual entries may overwrite the formulas and affect the accuracy of the calculations.
A4: Price Schedule - Summary
A6: Tenderers shall include these prices within the Form of Tender (Appendix 1). The prices submitted must reflect the whole life cost of the contract for the full contract term, including all costs associated with service delivery.
A8: Item | B8: Requirement | C8: Total Cost for contract term 5-Years (£)
A9: A1 | B9: Table 1: Haulage requirements from: CCBC MRF | C9: =SUM('Table 1'!I31) -> 0
A10: A2 | B10: Table 2: Haulage requirements from: CCBC Gofer Bulking Station (GBS) | C10: =SUM('Table 2'!I19) -> 0
A11: A3 | B11: Table 3: Haulage requirements from: CCBC Highways Depot’s (x2) Llandudno Junction | C11: =SUM('Table 3'!I12) -> 0
A12: A4 | B12: Table 4: Haulage requirements from: CCBC Plas-y-Dre Depot, Llanrwst | C12: =SUM('Table 4'!I14) -> 0
A13: A5 | B13: Table 5: Haulage requirements from: CCBC Builders Street Depot, Llandudno | C13: =SUM('Table 5'!I12) -> 0
A14: A6 | B14: Table 6: Haulage requirements from: Central Resource Dept, Mochdre, Colwyn Bay | C14: =SUM('Table 6'!I12) -> 0
A15: A7 | B15: Table 7: Haulage requirements from: Site within 3 miles of LL22 8HH | C15: =SUM('Table 7'!I14) -> 0
A16: A8 | B16: Table 8: Haulage requirements for emergency and out-of-hours hourly rates | C16: =SUM('Table 8'!F15) -> 0
A17: A9 | B17: Table 9: Any other costs considered applicable to the specified contract requirements (please detail below, if applicable): | C17: =SUM('Table 9'!F13) -> 0
A18: Total (to be carried over to Appendix 1 – Form of Tender) | C18: =SUM(C9:C17) -> 0
