Workbook

Sheet Summary
A1: BAF26028 DLO Support Framework – Price Schedule
A3: Orgnisation name:
A5: This summary automatically draws the evaluated total from each Lot tab. Tenderers should complete the proposed percentage adjustment on each Lot tendered for. The below total amounts are to be used for evaluation purposes.
A6: Price Review: The Schedule of Rates, following application of the Tenderer’s proposed percentage adjustment, will be fixed until 31 August 2028. The first CPI adjustment will take effect on 1 September 2028, with subsequent annual adjustments applied in accordance with the Framework Agreement. The Tenderer’s proposed percentage adjustment will remain fixed throughout the Framework term.
A8: Lot | B8: Description | C8: Adjustment % | D8: Evaluated Total | E8: Tendered?
A9: 1 | B9: General Repairs | C9: ='Lot 1'!B8 -> 0 | D9: ='Lot 1'!B9 -> 171720.17
A10: 2 | B10: Gas, Heating & Plumbing Repairs (incl. OOH) | C10: ='Lot 2'!B8 -> 0 | D10: ='Lot 2'!B9 -> 134471.51
A11: 3 | B11: Heating Installations | C11: ='Lot 3'!B8 -> 0 | D11: ='Lot 3'!B9 -> 1000560.2
A12: 4 | B12: Roofing Repairs | C12: ='Lot 4'!B8 -> 0 | D12: ='Lot 4'!B9 -> 28502.149
A13: 5 | B13: Highway Works | C13: ='Lot 5'!B8 -> 0 | D13: ='Lot 5'!B9 -> 5604.2897
A14: 6 | B14: Doors & Windows (Glazing) | C14: ='Lot 6'!B8 -> 0 | D14: ='Lot 6'!B9 -> 98844.221
A15: 7 | B15: Drainage & Groundworks | C15: ='Lot 7'!B8 -> 0 | D15: ='Lot 7'!B9 -> 17743.203
A16: 8 | B16: External Garden Works | C16: ='Lot 8'!B8 -> 0 | D16: ='Lot 8'!B9 -> 41292.345
A17: 9 | B17: Whole House Refurbishment | C17: ='Lot 9'!B8 -> 0 | D17: ='Lot 9'!B9 -> 695814.45

Sheet Lot 1
A1: BAF26028 DLO Support Framework – Lot 1: General Repairs
A3: Price Schedule
A5: Tenderers must complete the yellow highlighted cells. Enter the proposed percentage adjustment in cell B8. Enter an uplift as a positive percentage (for example 10%) or a discount as a negative percentage (for example -10%). The adjustment is applied to every published SOR Rate and the adjusted total is shown in cell B8. All submitted prices must be fully inclusive of all costs associated with delivery unless expressly stated otherwise in the Tender Documents. No additional expenses or charges will be payable.
A8: SOR Proposed Adjustment %
A9: Total Amount (to be used for evaluation purposes) | B9: =SUM(P12:P1021) -> 171720.17
A11: Document Code | B11: New v8 | C11: Priority | D11: Right to Repair | E11: Component Accounting | F11: First Time Fix | G11: NHF_Trade_Code | H11: Short Description | I11: Element | J11: Section | K11: Subsection | L11: UOM | M11: SOR Rate | N11: Medium Description | O11: Long Description | P11: Adjusted SOR Rate
A12: 015003 | C12: R | D12: N | E12: Y | F12: N | G12: GR | H12: FLOOR:RENEW INTERNAL CONCRETE INSULATION | I12: Foundations | J12: Floor - Concrete Internal Renewal | K12: Floor - Concrete Internal Renewal | L12: SM | M12: 228.6206 | N12: Floor:Break up existing floor complete, excavate lay ne 175mm hardcore, sand blinding, 1200 dpm, 50mm Jablite, 150mm concrete, ne 65mm screed, remove refix skirtings, make good. | O12: Floor:Renew complete any floor with new concrete floor including break up existing floor, applied finish and sub-base under and remove waste and debris, excavate as necessary, compact bottoms and lay and compact ne 175mm hardcore bed blinded with sand, lay 1200 gauge polythene damp proof membrane, 50mm Jablite or other equal and approved insulation board, both membrane and board turned up 150mm at edges, 150mm concrete slab (1:2:4) with mesh reinforcement and ne 65mm cement and sand floor screed trowelled smooth to receive floor finish, remove and refix skirtings as necessary and make good all finishes. | P12: =IF(M12="","",M12*(1+$B$8)) -> 228.6206
A13: 015007 | C13: R | D13: N | E13: Y | F13: N | G13: GR | H13: FLOOR:NEW INTERNAL CONCRETE WITH INSULATION | I13: Foundations | J13: Floor - Concrete Internal New | K13: Floor - Concrete Internal New | L13: SM | M13: 209.7203 | N13: Floor:Excavate as necessary, lay ne 175mm hardcore, sand blinding, lay 1200 dpm 50mm Jablite 150mm concrete, mesh, ne 65mm screed trowelled smooth, remove refix skirtings, make good. | O13: Floor:Excavate as necessary, remove waste and debris, compact bottoms and lay and compact ne 175mm hardcore bed blinded with sand, lay 1200 gauge polythene damp proof membrane, 50mm Jablite or other equal and approved insulation board, both membrane and board turned up 150mm at edges, 150mm concrete slab (1:2:4) with mesh reinforcement and ne 65mm cement and sand floor screed trowelled smooth to receive floor finish, remove and refix skirtings as necessary and make good all finishes. | P13: =IF(M13="","",M13*(1+$B$8)) -> 209.7203
A14: 015501 | C14: R | D14: N | E14: Y | F14: N | G14: GR | H14: FLOOR:HARDCORE FILL UNDER FLOOR | I14: Specialist Treatments | J14: Fungus and Beetle Eradication and DPC Works | K14: Works to Sub-Floors | L14: CM | M14: 148.8656 | N14: Floor:Fill under floor with clean broken and graded hardcore or other filling to approval of CR, to receive pvc membrane and concrete floor, all in conjunction with injected DPC treatment. | O14: Floor:Fill under floor with clean broken and graded hardcore or other filling to approval of Client Representative, consolidate and blind ready to receive PVC membrane and concrete floor slab as specified all in conjunction with injected damp proof course wall treatment. | P14: =IF(M14="","",M14*(1+$B$8)) -> 148.8656
A15: 112001 | C15: R | D15: N | E15: Y | F15: N | G15: SP | H15: WALL 225MM:CHEMICAL INJECTION EXTERNAL DPC | I15: Specialist Treatments | J15: Fungus and Beetle Eradication and DPC Works | K15: Chemical DPC Wall Injection | L15: LM | M15: 193.1461 | N15: Wall 225mm:Drill external wall and inject chemical DPC, make good holes, all as specified and remove waste and debris. | O15: Wall 225mm:Drill external wall and inject chemical damp proof course, make good holes, all as specified and remove waste and debris. | P15: =IF(M15="","",M15*(1+$B$8)) -> 193.1461
A16: 112003 | C16: R | D16: N | E16: Y | F16: N | G16: SP | H16: WALL 338MM:CHEMICAL INJECTION EXTERNAL DPC | I16: Specialist Treatments | J16: Fungus and Beetle Eradication and DPC Works | K16: Chemical DPC Wall Injection | L16: LM | M16: 271.6122 | N16: Wall 338mm:Drill external wall and inject chemical DPC, make good holes, all as specified and remove waste and debris. | O16: Wall 338mm:Drill external wall and inject chemical damp proof course, make good holes, all as specified and remove waste and debris. | P16: =IF(M16="","",M16*(1+$B$8)) -> 271.6122
A17: 112005 | C17: R | D17: N | E17: Y | F17: N | G17: SP | H17: WALL 450MM:CHEMICAL INJECTION EXTERNAL DPC | I17: Specialist Treatments | J17: Fungus and Beetle Eradication and DPC Works | K17: Chemical DPC Wall Injection | L17: LM | M17: 369.6414 | N17: Wall 450mm:Drill external wall and inject chemical DPC, make good holes, all as specified and remove waste and debris. | O17: Wall 450mm:Drill external wall and inject chemical damp proof course, make good holes, all as specified and remove waste and debris. | P17: =IF(M17="","",M17*(1+$B$8)) -> 369.6414
A18: 112007 | C18: R | D18: N | E18: Y | F18: N | G18: SP | H18: WALL 563MM:CHEMICAL INJECTION EXTERNAL DPC | I18: Specialist Treatments | J18: Fungus and Beetle Eradication and DPC Works | K18: Chemical DPC Wall Injection | L18: LM | M18: 456.2273 | N18: Wall 563mm:Drill external wall and inject chemical DPC, make good holes, all as specified and remove waste and debris. | O18: Wall 563mm:Drill external wall and inject chemical damp proof course, make good holes, all as specified and remove waste and debris. | P18: =IF(M18="","",M18*(1+$B$8)) -> 456.2273
A19: 112009 | C19: R | D19: N | E19: Y | F19: N | G19: SP | H19: WALL 113MM:CHEMICAL INJECTION INTERNAL DPC | I19: Specialist Treatments | J19: Fungus and Beetle Eradication and DPC Works | K19: Chemical DPC Wall Injection | L19: LM | M19: 112.2105 | N19: Wall 113mm:Drill internal wall and inject chemical DPC, make good holes, all as specified and remove waste and debris. | O19: Wall 113mm:Drill internal wall and inject chemical damp proof course, make good holes, all as specified and remove waste and debris. | P19: =IF(M19="","",M19*(1+$B$8)) -> 112.2105
A20: 112011 | C20: R | D20: N | E20: Y | F20: N | G20: SP | H20: WALL 225MM:CHEMICAL INJECTION INTERNAL DPC | I20: Specialist Treatments | J20: Fungus and Beetle Eradication and DPC Works | K20: Chemical DPC Wall Injection | L20: LM | M20: 193.1461 | N20: Wall 225mm:Drill internal wall and inject chemical DPC, make good holes, all as specified and remove waste and debris. | O20: Wall 225mm:Drill internal wall and inject chemical damp proof course, make good holes, all as specified and remove waste and debris. | P20: =IF(M20="","",M20*(1+$B$8)) -> 193.1461
A21: 112013 | C21: R | D21: N | E21: Y | F21: N | G21: SP | H21: WALL CAVITY:CHEMICAL INJECTION INTERNAL DPC | I21: Specialist Treatments | J21: Fungus and Beetle Eradication and DPC Works | K21: Chemical DPC Wall Injection | L21: LM | M21: 112.2105 | N21: Wall Cavity:Drill 113mm thick skin of internal wall, inject chemical DPC, make good holes, all as specified and remove waste and debris. | O21: Wall Cavity:Drill 113mm thick skin of internal wall, inject chemical damp proof course, make good holes, all as specified and remove waste and debris. | P21: =IF(M21="","",M21*(1+$B$8)) -> 112.2105
A22: 112015 | C22: R | D22: N | E22: Y | F22: N | G22: SP | H22: WALL 338MM:CHEMICAL INJECTION INTERNAL DPC | I22: Specialist Treatments | J22: Fungus and Beetle Eradication and DPC Works | K22: Chemical DPC Wall Injection | L22: LM | M22: 263.2737 | N22: Wall 338mm:Drill internal wall and inject chemical DPC, make good holes, all as specified and remove waste and debris. | O22: Wall 338mm:Drill internal wall and inject chemical damp proof course, make good holes, all as specified and remove waste and debris. | P22: =IF(M22="","",M22*(1+$B$8)) -> 263.2737
A23: 112018 | C23: R | D23: N | E23: Y | F23: N | G23: SP | H23: WALL CAVITY:CHEMICAL INJECTION 2 SKINS DPC | I23: Specialist Treatments | J23: Fungus and Beetle Eradication and DPC Works | K23: Chemical DPC Wall Injection | L23: LM | M23: 234.4155 | N23: Wall Cavity:Drill both 113mm thick skins of hollow wall, make good holes, all as specified and remove waste and debris. | O23: Wall Cavity:Drill both 113mm thick skins of hollow wall, make good holes, all as specified and remove waste and debris. | P23: =IF(M23="","",M23*(1+$B$8)) -> 234.4155
... A114: 305105 | C114: R | D114: N | E114: N | F114: N | G114: JR | H114: FLOORING:SUPPLY AND LAY 4MM PLYWOOD | I114: Carpentry and Joinery | J114: Flooring | K114: Flooring - Rigid Sheet - WPB Plywood | L114: SM | M114: 32.8995 | N114: Flooring:Supply and lay 4mm WBP plywood nailed to existing floorboard at 150mm centres with wired nails and level as necessary. | O114: Flooring:Supply and lay 4mm WBP plywood nailed to existing floorboard at 150mm centres with wired nails and level as necessary. | P114: =IF(M114="","",M114*(1+$B$8)) -> 32.8995
A115: 305107 | B115: New | C115: R | D115: N | E115: N | F115: N | G115: JR | H115: FLOORING:RENEW IN 12MM PLYWOOD | I115: Carpentry and Joinery | J115: Flooring | K115: Flooring - Rigid Sheet - WPB Plywood | L115: SM | M115: 47.4374 | N115: Flooring:Renew any flooring with 12mm WBP plywood including denail joists, clear debris, punch in nails, level to existing and make good including additional noggins and support battens as necessary. | O115: Flooring:Renew any flooring with 12mm WBP plywood including denail joists, remove waste and debris, punch in nails, level to existing and make good including additional noggins and support battens as required. | P115: =IF(M115="","",M115*(1+$B$8)) -> 47.4374
A116: 305301 | C116: R | D116: N | E116: N | F116: N | G116: JR | H116: FLOORING:RENEW IN 19MM CHIPBOARD | I116: Carpentry and Joinery | J116: Flooring | K116: Flooring - Rigid Sheet - Flooring Grade Chipboard | L116: SM | M116: 38.8912 | N116: Flooring:Renew any flooring with 19mm flooring grade V313 waterproof chipboard, denail joists, remove spoil, punch in nails, level to existing, make good, additional noggins/support battens. | O116: Flooring:Renew any flooring with 19mm flooring grade V313 waterproof chipboard including denail joists, remove waste and debris, punch in nails, level to existing and make good including additional noggins and support battens as necessary. | P116: =IF(M116="","",M116*(1+$B$8)) -> 38.8912
A117: 305303 | C117: R | D117: N | E117: N | F117: N | G117: JR | H117: FLOORING:RENEW IN INSULATED CHIPBOARD | I117: Carpentry and Joinery | J117: Flooring | K117: Flooring - Rigid Sheet - Flooring Grade Chipboard | L117: SM | M117: 48.3214 | N117: Flooring:Renew any flooring with flooring grade V313 waterproof insulating chipboard, denail joists, remove spoil, punch in nails, level to existing, make good, additional noggins/battens. | O117: Flooring:Renew any flooring with flooring grade V313 waterproof insulating chipboard including denail joists, remove waste and debris, punch in nails and level to existing and make good including additional noggins and support battens necessary. | P117: =IF(M117="","",M117*(1+$B$8)) -> 48.3214
A118: 305501 | C118: R | D118: N | E118: N | F118: N | G118: JR | H118: FLOORING:SUPPLY AND LAY 3.2MM HARDBOARD | I118: Carpentry and Joinery | J118: Flooring | K118: Flooring - Rigid Sheet - Hardboard | L118: SM | M118: 12.1291 | N118: Flooring:Supply and lay 3.2mm flooring grade hardboard nailed to existing floorboard at 150mm centres with wired nails and level as necessary. | O118: Flooring:Supply and lay 3.2mm flooring grade hardboard nailed to existing floorboard at 150mm centres with wired nails and level as necessary. | P118: =IF(M118="","",M118*(1+$B$8)) -> 12.1291
A119: 305503 | C119: R | D119: N | E119: N | F119: N | G119: JR | H119: FLOORING:SUPPLY AND LAY 4MM HARDBOARD | I119: Carpentry and Joinery | J119: Flooring | K119: Flooring - Rigid Sheet - Hardboard | L119: SM | M119: 12.7141 | N119: Flooring:Supply and lay 4mm flooring grade hardboard nailed to existing floorboard at 150mm centres with wired nails and level as necessary, remove waste and debris. | O119: Flooring:Supply and lay 4mm flooring grade hardboard nailed to existing floorboard at 150mm centres with wired nails and level as necessary, remove waste and debris. | P119: =IF(M119="","",M119*(1+$B$8)) -> 12.7141
A120: 305701 | C120: U | D120: Y | E120: N | F120: Y | G120: JR | H120: FLOORBOARD:RENEW ANY TYPE NE 1.0SM | I120: Carpentry and Joinery | J120: Flooring | K120: Flooring - Timber Board | L120: IT | M120: 62.8336 | N120: Floorboard:Renew to match existing flooring with 19mm T and G or square edged flooring in area ne 1.00sm, denail joists, punch in nails, level to existing, extra noggins, make good, remove debris. | O120: Floorboard:Renew to match existing any flooring with 19mm tongued and grooved or square edged flooring in patch ne 1.00sm, including denail joists, remove waste and debris, punch in nails, level to existing and make good including any extra support noggins required. | P120: =IF(M120="","",M120*(1+$B$8)) -> 62.8336
A121: 305702 | C121: U | D121: N | E121: N | F121: Y | G121: JR | H121: FLOORBOARD:RENEW SINGLE | I121: Carpentry and Joinery | J121: Flooring | K121: Flooring - Timber Board | L121: LM | M121: 9.6425 | N121: Floorboard:Renew to match existing any single isolated floorboard with 19mm T + G or square edged flooring, denail joists, punch in nails, level level to existing, make good, remove waste and debris. | O121: Floorboard:Renew to match existing any single isolated floorboarding with 19mm tongued and grooved or square edged flooring, including denail joists, remove waste and debris, punch in nails, level to existing and make good including any extra support noggins required. | P121: =IF(M121="","",M121*(1+$B$8)) -> 9.6425
A122: 305703 | C122: R | D122: N | E122: N | F122: N | G122: JR | H122: FLOORBOARD:RENEW ANY TYPE OVER 1.0SM | I122: Carpentry and Joinery | J122: Flooring | K122: Flooring - Timber Board | L122: SM | M122: 60.0541 | N122: Floorboard:Renew to match existing looring with 19mm T and G or square edged flooring, denail joists, punch in nails, level to existing, extra support noggins, make good, and remove waste and debris. | O122: Floorboard:Renew to match existing any flooring with 19mm tongued and grooved or square edged flooring in area over 1.00sm including denail joists, remove waste and debris, punch in nails, level to existing and make good including any extra support noggins required. | P122: =IF(M122="","",M122*(1+$B$8)) -> 60.0541
A123: 305704 | C123: U | D123: N | E123: N | F123: Y | G123: JR | H123: FLOORBOARDS:REMOVE AND REFIX AREA | I123: Carpentry and Joinery | J123: Flooring | K123: Flooring - Timber Board | L123: SM | M123: 23.6981 | N123: Floorboard:Remove and later refix any area of boards, including denail joists, remove waste and debris, punch in nails, level to existing and make good including any extra support noggins required. | O123: Floorboard:Remove and later refix any area of boards, including denail joists, remove waste and debris, punch in nails, level to existing and make good including any extra support noggins required. | P123: =IF(M123="","",M123*(1+$B$8)) -> 23.6981
A124: 305705 | C124: U | D124: N | E124: N | F124: Y | G124: JR | H124: FLOORBOARD:REMOVE AND REFIX SINGLE BOARD | I124: Carpentry and Joinery | J124: Flooring | K124: Flooring - Timber Board | L124: LM | M124: 5.8514 | N124: Floorboard:Remove and later refix any boards, including denail joists and remove waste and debris, punch in nails, level to existing and make good including any extra support noggins required. | O124: Floorboard:Remove and later refix any boards, including denail joists and remove waste and debris, punch in nails, level to existing and make good including any extra support noggins required. | P124: =IF(M124="","",M124*(1+$B$8)) -> 5.8514
A125: 305706 | C125: U | D125: N | E125: N | F125: Y | G125: JR | H125: FLOORBOARD:SCREW DOWN PER ROOM | I125: Carpentry and Joinery | J125: Flooring | K125: Flooring - Timber Board | L125: IT | M125: 12.8714 | N125: Floorboard:Screw down any width loose floorboards in any room including providing fixing batten to side of joist where end of board is unsupported (per room). | O125: Floorboard:Screw down any width loose floorboards in any room including providing fixing batten to side of joist where end of board is unsupported (Per Room). | P125: =IF(M125="","",M125*(1+$B$8)) -> 12.8714
A126: 305709 | C126: R | D126: N | E126: Y | F126: N | G126: JR | H126: FLOORING:APPLY 2 COATS PRESERVATIVE | I126: Carpentry and Joinery | J126: Flooring | K126: Flooring - Timber Board | L126: SM | M126: 6.9278 | N126: Flooring:Prepare and brush apply two coats of approved preservative to general surfaces of flooring. | O126: Preservative:Prepare and brush apply two coats of approved preservative to general surfaces of flooring. | P126: =IF(M126="","",M126*(1+$B$8)) -> 6.9278
A127: 305803 | C127: R | D127: N | E127: Y | F127: N | G127: JR | H127: FLOOR:TREAT FLOOR INSECTICIDE 10% RENEWAL | I127: Specialist Treatments | J127: Timber Treatment | K127: Flooring Treatment | L127: SM | M127: 47.431 | N127: Floor:Take up any type floorboards and treat with insecticide all floorboards, joists, plates, bridging and other floor timbers, on completion refix floorboards up to 10% floorboard renewal. | O127: Floor:Take up any type floorboards and treat with insecticide all floorboards, joists, plates, bridging and other floor timbers, on completion refix floorboards including upto 10% floorboard renewal. | P127: =IF(M127="","",M127*(1+$B$8)) -> 47.431
... A167: 310501 | C167: R | D167: N | E167: Y | F167: N | G167: JR | H167: WINDOW:RENEW SOFTWOOD BOX SASH | I167: Carpentry and Joinery | J167: Windows | K167: Box Sash - Purpose Made Softwood Double Glazed | L167: SM | M167: 1097.4889 | N167: Window:Renew window with purpose made double glazed softwood double hung cased box frame and sashes complete with ironmongery, weatherstripping, make good, prepare to decorate externally. | O167: Window:Renew window with purpose made double glazed softwood double hung cased box frame and sashes complete with 2 sashes, factory applied base stain or primer finish, compressible weatherstripping, glazing beads, ironmongery, remove existing and fix new into prepared opening, bed in mortar, point with sealant, and make good all finishes and decorate to match existing internally and prepare for redecoration externally and remove waste and debris. | P167: =IF(M167="","",M167*(1+$B$8)) -> 1097.4889
A168: 310503 | B168: New | C168: R | D168: N | E168: Y | F168: N | G168: JR | H168: WINDOW:RENEW SOFTWOOD LEGACY OR HERITAGE BOX SASH | I168: Carpentry and Joinery | J168: Windows | K168: Box Sash - Purpose Made Softwood Double Glazed | L168: SM | M168: 1466.6473 | N168: Window:Renew window with purpose made legacy or heritage vacuum double glazed primed softwood to match existing double hung cased box frame and sashes complete with 2 sashes, ironmongery, sealant, | O168: Window:Renew window with purpose made legacy or heritage vacuum double glazed softwood to match existing double hung cased box frame and sashes complete with 2 sashes, factory applied base stain or primer finish, compressible weatherstripping, glazing beads, ironmongery, remove existing and fix new into prepared opening, bed in mortar, point with sealant, and make good all finishes and decorate to match existing internally and prepare for redecoration externally and remove waste and debris. | P168: =IF(M168="","",M168*(1+$B$8)) -> 1466.6473
A169: 310701 | C169: R | D169: N | E169: Y | F169: N | G169: JR | H169: WINDOW:RENEW SOFTWOOD HORIZONTAL PIVOT | I169: Carpentry and Joinery | J169: Windows | K169: Horizontal Pivot Hung - Purpose Made Softwood | L169: SM | M169: 781.5538 | N169: Window:Renew window with purpose made double glazed softwood horizontal pivot hung window complete with ironmongery, weatherstripping, make good, prepare to decorate externally. | O169: Window:Renew window with purpose made double glazed softwood horizontal pivot hung window complete, factory applied base stain or primer finish, compressible weatherstripping, glazing beads, ironmongery, fix frame to prepared opening, bed in mortar and point with sealant, make good all finishes and decorate to match existing internally and prepare for redecoration externally and remove waste and debris. | P169: =IF(M169="","",M169*(1+$B$8)) -> 781.5538
A170: 311101 | C170: R | D170: N | E170: Y | F170: N | G170: JR | H170: WINDOW:RENEW STANDARD HARDWOOD CASEMENT 1 LIGHT | I170: Carpentry and Joinery | J170: Windows | K170: Casement - Standard Hardwood Double Glazed | L170: SM | M170: 540.7093 | N170: Window:Renew any window with standard double glazed hardwood casement window with hardwood cill, weatherstripping, ironmongery, make good, prepate to decorate externally, 1 No. opening light. | O170: Window:Renew timber window with standard double glazed hardwood casement window with hardwood cill, including ne 1 No. opening light, fixed lights, factory applied base stain finish, compressible weatherstripping, ironmongery including locking handles, glazing beads, windows preslotted for trickle ventilators including screens, remove existing frame and fix new in prepared opening, bed in mortar and point with sealant, make good to all finishes and decorate to match existing internally and prepare for redecoration externally and remove waste and debris. | P170: =IF(M170="","",M170*(1+$B$8)) -> 540.7093
A171: 311105 | C171: R | D171: N | E171: Y | F171: N | G171: JR | H171: WINDOW:RENEW STANDARD HARDWOOD CASEMENT 2 LIGHT | I171: Carpentry and Joinery | J171: Windows | K171: Casement - Standard Hardwood Double Glazed | L171: SM | M171: 757.3231 | N171: Window:Renew any window with standard double glazed hardwood casement window with hardwood cill, weatherstripping, ironmongery, make good, prepate to decorate externally, 2 No. opening light. | O171: Window:Renew timber window with standard double glazed hardwood casement window with hardwood cill, including ne 2 No. opening light, fixed lights, factory applied base stain finish, compressible weatherstripping, ironmongery including locking handles, glazing beads, windows preslotted for trickle ventilators including screens, remove existing frame and fix new in prepared opening, bed in mortar and point with sealant, make good to all finishes and decorate to match existing internally and prepare for redecoration externally and remove waste and debris. | P171: =IF(M171="","",M171*(1+$B$8)) -> 757.3231
A172: 311109 | C172: R | D172: N | E172: Y | F172: N | G172: JR | H172: WINDOW:RENEW STANDARD HARDWOOD CASEMENT 3 LIGHT | I172: Carpentry and Joinery | J172: Windows | K172: Casement - Standard Hardwood Double Glazed | L172: SM | M172: 785.134 | N172: Window:Renew any window with standard double glazed hardwood casement window with hardwood cill, weatherstripping, ironmongery, make good, prepate to decorate externally, 3 No. opening light. | O172: Window:Renew timber window with standard double glazed hardwood casement window with hardwood cill, including ne 3 No. opening light, fixed lights, factory applied base stain finish, compressible weatherstripping, ironmongery including locking handles, glazing beads, windows preslotted for trickle ventilators including screens, remove existing frame and fix new in prepared opening, bed in mortar and point with sealant, make good to all finishes and decorate to match existing internally and prepare for redecoration externally and remove waste and debris. | P172: =IF(M172="","",M172*(1+$B$8)) -> 785.134
A173: 311113 | C173: R | D173: N | E173: Y | F173: N | G173: JR | H173: WINDOW:RENEW STANDARD HARDWOOD CASEMENT 4 LIGHT | I173: Carpentry and Joinery | J173: Windows | K173: Casement - Standard Hardwood Double Glazed | L173: SM | M173: 954.4564 | N173: Window:Renew any window with standard double glazed hardwood casement window with hardwood cill, weatherstripping, ironmongery, make good, prepate to decorate externally, 4 No. opening light. | O173: Window:Renew timber window with standard double glazed hardwood casement window with hardwood cill, including ne 4 No. opening light, fixed lights, factory applied base stain finish, compressible weatherstripping, ironmongery including locking handles, glazing beads, windows preslotted for trickle ventilators including screens, remove existing frame and fix new in prepared opening, bed in mortar and point with sealant, make good to all finishes and decorate to match existing internally and prepare for redecoration externally and remove waste and debris. | P173: =IF(M173="","",M173*(1+$B$8)) -> 954.4564
A174: 311301 | C174: R | D174: N | E174: Y | F174: N | G174: JR | H174: WINDOW:RENEW PURPOSE HARDWOOD CASEMENT 1 LIGHT | I174: Carpentry and Joinery | J174: Windows | K174: Casement - Purpose Made Hardwood Double Glazed | L174: SM | M174: 863.9569 | N174: Window:Renew any window with purpose made hardwood casement window with hardwood cill, double glazed weatherstripping, ironmongery, make good, prepare to decorate, 1 No. opening light. | O174: Window:Renew timber window with purpose made double glazed hardwood casement window with hardwood cill including ne 1 No. opening light, fixed lights, factory applied base stain, compressible weatherstripping, ironmongery including locking handles, glazing beads, windows preslotted for trickle ventilators including screens, remove existing frame and fix new in prepared opening, bed in mortar and point with sealant, make good to all finishes, decorate to match existing internally and prepare for redecoration externally and remove waste and debris. | P174: =IF(M174="","",M174*(1+$B$8)) -> 863.9569
...

Sheet Lot 2
A1: BAF26028 DLO Support Framework – Lot 2: Gas, Heating & Plumbing Repairs (incl. OOH)
A3: Price Schedule
A5: Tenderers must complete the yellow highlighted cells. Enter the proposed percentage adjustment in cell B8. Enter an uplift as a positive percentage (for example 10%) or a discount as a negative percentage (for example -10%). The adjustment is applied to every published SOR Rate and the adjusted total is shown in cell B8. All submitted prices must be fully inclusive of all costs associated with delivery unless expressly stated otherwise in the Tender Documents. No additional expenses or charges will be payable.
A8: SOR Proposed Adjustment %
A9: Total Amount (to be used for evaluation purposes) | B9: =SUM(P12:P558) -> 134471.51
A11: Document Code | B11: New v8 | C11: Priority | D11: Right to Repair | E11: Component Accounting | F11: First Time Fix | G11: NHF_Trade_Code | H11: Short Description | I11: Element | J11: Section | K11: Subsection | L11: UOM | M11: SOR Rate | N11: Medium Description | O11: Long Description | P11: Adjusted SOR Rate
A12: 387001 | C12: R | D12: N | E12: Y | F12: N | G12: JR | H12: DUCT:RENEW 6MM PLYWOOD SIDED CASING NE 300MM | I12: Carpentry and Joinery | J12: Ducting and Bath Panels | K12: Duct Casings | L12: LM | M12: 31.8633 | N12: Duct:Renew duct NE 300mm, 6mm WBP plywood sides, screwed with brass cups and screws to and including frame, plug and screw to walls, form access points, decorate to match existing, remove waste. | O12: Duct:Renew two or three sided pipe duct casing NE 300mm girth and framing, with 6mm WBP plywood casing sides, screwed with brass cups and screws to and including 38x50mm framing including plug and screw to walls, form access points as necessary and decorate to match existing and remove waste and debris. | P12: =IF(M12="","",M12*(1+$B$8)) -> 31.8633
A13: 387002 | C13: R | D13: N | E13: Y | F13: N | G13: JR | H13: DUCT:RENEW 12MM PLYWOOD SIDED CASING NE 300MM | I13: Carpentry and Joinery | J13: Ducting and Bath Panels | K13: Duct Casings | L13: LM | M13: 41.3534 | N13: Duct:Renew duct NE 300mm, 12mm WBP plywood sides, screwed with brass cups and screws to and including frame, plug and screw to walls, form access points, decorate to match existing, remove waste. | O13: Duct:Renew two or three sided pipe duct casing NE 300mm girth and framing, with 12mm WBP plywood casing sides, screwed with brass cups and screws to and including 38x50mm framing including plug and screw to walls, form access points as necessary and decorate to match existing and remove waste and debris. | P13: =IF(M13="","",M13*(1+$B$8)) -> 41.3534
A14: 387003 | C14: R | D14: N | E14: Y | F14: N | G14: JR | H14: DUCT:RENEW 6MM PLYWOOD CASING SIDE OVER 300MM | I14: Carpentry and Joinery | J14: Ducting and Bath Panels | K14: Duct Casings | L14: SM | M14: 69.2374 | N14: Duct:Renew duct over 300mm, 6mm WBP plywood sides, screwed with brass cups and screws to and including frame, plug and screw to walls, form access points, decorate to match existing, remove waste. | O14: Duct:Renew two or three sided pipe duct casing over 300mm girth and framing, with 6mm WBP plywood casing sides, screwed with brass cups and screws to and including 38x50mm framing including plug and screw to walls, form access points as necessary and decorate to match existing and remove waste and debris. | P14: =IF(M14="","",M14*(1+$B$8)) -> 69.2374
A15: 387004 | C15: R | D15: N | E15: Y | F15: N | G15: JR | H15: DUCT:RENEW 12MM PLYWOOD SIDED CASING OVER 300MM | I15: Carpentry and Joinery | J15: Ducting and Bath Panels | K15: Duct Casings | L15: SM | M15: 101.774 | N15: Duct:Renew duct over 300mm, 12mm WBP plywood sides, screwed with brass cups and screws to and including frame, plug and screw to walls, form access points, decorate to match existing, remove waste. | O15: Duct:Renew two or three sided pipe duct casing over 300mm girth and framing, with 12mm WBP plywood casing sides, screwed with brass cups and screws to and including 38x50mm framing including plug and screw to walls, form access points as necessary and decorate to match existing and remove waste and debris. | P15: =IF(M15="","",M15*(1+$B$8)) -> 101.774
A16: 387007 | C16: R | D16: N | E16: Y | F16: N | G16: JR | H16: DUCT:RENEW 6MM PLYWOOD SIDED CASING NE 450MM | I16: Carpentry and Joinery | J16: Ducting and Bath Panels | K16: Duct Casings | L16: LM | M16: 76.7566 | N16: Duct:Renew duct NE 450mm, 6mm WBP plywood sides, screwed with brass cups and screws to and including frame, plug and screw to walls, form access points, decorate to match existing, remove waste. | O16: Duct:Renew two or three sided pipe duct casing NE 450mm girth and framing, with 6mm WBP plywood casing sides, screwed with brass cups and screws to and including 38x50mm framing including plug and screw to walls, form access points as necessary and decorate to match existing and remove waste and debris. | P16: =IF(M16="","",M16*(1+$B$8)) -> 76.7566
A17: 387008 | C17: R | D17: N | E17: Y | F17: N | G17: JR | H17: DUCT:RENEW 12MM PLYWOOD SIDED CASING NE 450MM | I17: Carpentry and Joinery | J17: Ducting and Bath Panels | K17: Duct Casings | L17: LM | M17: 86.5448 | N17: Duct:Renew duct NE 450mm, 12mm WBP plywood sides, screwed with brass cups and screws to and including frame, plug and screw to walls, form access points, decorate to match existing, remove waste. | O17: Duct:Renew two or three sided pipe duct casing NE 450mm girth and framing, with 12mm WBP plywood casing sides, screwed with brass cups and screws to and including 38x50mm framing including plug and screw to walls, form access points as necessary and decorate to match existing and remove waste and debris. | P17: =IF(M17="","",M17*(1+$B$8)) -> 86.5448
A18: 387009 | C18: R | D18: N | E18: Y | F18: N | G18: JR | H18: DUCT:RENEW PLASTERBOARD CASING NE 300MM | I18: Carpentry and Joinery | J18: Ducting and Bath Panels | K18: Duct Casings | L18: LM | M18: 38.7027 | N18: Duct:Renew duct NE 300mm, 12.5mm plasterboard sides, screwed with brass cups and screws to and including frame, plug and screw to walls, form access points, decorate to match existing, remove waste. | O18: Duct:Renew two or three sided pipe duct casing NE 300mm girth and framing, with 12.5mm plasterboard casing sides, screwed with brass cups and screws to and including 38x50mm framing including plug and screw to walls, form access points as necessary and decorate to match existing and remove waste and debris. | P18: =IF(M18="","",M18*(1+$B$8)) -> 38.7027
A19: 387011 | C19: R | D19: N | E19: Y | F19: N | G19: JR | H19: DUCT:RENEW PLASTERBOARD CASING OVER 300MM | I19: Carpentry and Joinery | J19: Ducting and Bath Panels | K19: Duct Casings | L19: SM | M19: 79.3268 | N19: Duct:Renew duct over 300mm, 12.5mm plasterboard sides, screwed with brass cups and screws to and including frame, plug and screw to walls, form access points, decorate to match existing, remove waste. | O19: Duct:Renew two or three sided pipe duct casing over 300mm girth and framing, with 12.5mm plasterboard casing sides, screwed with brass cups and screws to and including 38x50mm framing including plug and screw to walls, form access points as necessary and decorate to match existing and remove waste and debris. | P19: =IF(M19="","",M19*(1+$B$8)) -> 79.3268
A20: 387015 | C20: R | D20: N | E20: Y | F20: N | G20: JR | H20: DUCT:RENEW PLASTERBOARD SIDED NE 450MM | I20: Carpentry and Joinery | J20: Ducting and Bath Panels | K20: Duct Casings | L20: LM | M20: 77.7578 | N20: Duct:Renew duct NE 450mm, 12.5mm plasterboard sides, screwed with brass cups and screws to and including frame, plug and screw to walls, form access points, decorate to match existing, remove waste. | O20: Duct:Renew two or three sided pipe duct casing NE 450mm girth and framing, with 12.5mm plasterboard casing sides, screwed with brass cups and screws to and including 38x50mm framing including plug and screw to walls, form access points as necessary and decorate to match existing and remove waste and debris. | P20: =IF(M20="","",M20*(1+$B$8)) -> 77.7578
A21: 387017 | C21: U | D21: N | E21: N | F21: Y | G21: JR | H21: DUCT:REMOVE REFIX CASING FOR CLIENT INSPECTION | I21: Carpentry and Joinery | J21: Ducting and Bath Panels | K21: Duct Casings | L21: LM | M21: 12.5803 | N21: Duct:Remove pipe duct casing for Employer inspection and later refix including all making good and make good decorations to match existing and remove waste and debris. | O21: Duct:Remove pipe duct casing for Employer inspection and later refix including all making good and make good decorations to match existing and remove waste and debris. | P21: =IF(M21="","",M21*(1+$B$8)) -> 12.5803
A22: 387019 | C22: R | D22: N | E22: N | F22: N | G22: JR | H22: DUCT:FORM ACCESS PANEL IN EXISTING | I22: Carpentry and Joinery | J22: Ducting and Bath Panels | K22: Duct Casings | L22: IT | M22: 63.2393 | N22: Duct:Form access panel in existing duct casing, remove plywood casing as necessary, cut out, form access panel fixed with brass cups and screws all additional framing and make good decorations. | O22: Duct:Form access panel in existing duct casing, remove plywood casing as necessary, cut out and form access panel fixed with brass cups and screws including all additional framing and make good decorations to match existing and remove waste and debris. | P22: =IF(M22="","",M22*(1+$B$8)) -> 63.2393
A23: 387021 | C23: R | D23: N | E23: N | F23: N | G23: JR | H23: DUCT:REMOVE DUCTING AND DISPOSE | I23: Carpentry and Joinery | J23: Ducting and Bath Panels | K23: Duct Casings | L23: NO | M23: 11.1178 | N23: Duct:Remove any type of duct covering and framing ne 1.00sm in wall area, make good finishes and remove waste and debris. | O23: Duct:Remove any type of duct covering and framing ne 1.00sm in wall area, make good finishes and remove waste and debris. | P23: =IF(M23="","",M23*(1+$B$8)) -> 11.1178
A24: 387023 | B24: New | C24: R | D24: N | E24: N | F24: N | G24: JR | H24: DUCT:INSTALL PROPRIETARY ACCESS PANEL 150 X 235MM | I24: Carpentry and Joinery | J24: Ducting and Bath Panels | K24: Duct Casings | L24: IT | M24: 35.3148 | N24: Duct: Cut opening in existing plywood or plasterboard duct casing and supply and install proprietary duct access panel size 150 x 235mm, all labours, make good, remove waste and debris. | O24: Duct: Cut opening in existing plywood or plasterboard duct casing and supply and install proprietary duct access panel size 150 x 235mm in accordance with the manufacturers technical data sheet, all labours, make good, remove waste and debris. | P24: =IF(M24="","",M24*(1+$B$8)) -> 35.3148
A25: 387025 | B25: New | C25: R | D25: N | E25: N | F25: N | G25: JR | H25: DUCT:INSTALL PROPRIETARY ACCESS PANEL 300 X 300MM | I25: Carpentry and Joinery | J25: Ducting and Bath Panels | K25: Duct Casings | L25: IT | M25: 169.8493 | N25: Duct: Cut opening in existing plywood or plasterboard duct casing and supply and install proprietary duct access panel size 300 x 300mm, all labours, make good, remove waste and debris. | O25: Duct: Cut opening in existing plywood or plasterboard duct casing and supply and install proprietary duct access panel size 300 x 300mm in accordance with the manufacturers technical data sheet , all labours, make good, remove waste and debris. | P25: =IF(M25="","",M25*(1+$B$8)) -> 169.8493
A26: 388001 | C26: R | D26: N | E26: Y | F26: N | G26: JR | H26: BATH PANEL:RENEW HARDBOARD SIDE AND FRAMING | I26: Carpentry and Joinery | J26: Ducting and Bath Panels | K26: Bath Panels and Framing | L26: IT | M26: 84.4631 | N26: Bath Panel:Renew or supply and fix 4.8mm self finished hardboard side bath panel, securely screwed with chromium plated dome headed screws to and including 38x50mm softwood framing. | O26: Bath Panel:Renew or supply and fix 4.8mm self finished hardboard side bath panel, securely screwed with chromium plated dome headed screws to and including 38x50mm softwood framing and remove waste and debris. | P26: =IF(M26="","",M26*(1+$B$8)) -> 84.4631
A27: 388003 | C27: R | D27: N | E27: Y | F27: N | G27: JR | H27: BATH PANEL:RENEW HARDBOARD END AND FRAMING | I27: Carpentry and Joinery | J27: Ducting and Bath Panels | K27: Bath Panels and Framing | L27: IT | M27: 57.2566 | N27: Bath Panel:Renew or supply and fix 4.8mm self finished hardboard end bath panel, fixed with chromium plated dome headed screws including 38x50mm softwood framing complete with metal bath panel trim. | O27: Bath Panel:Renew or supply and fix 4.8mm self finished hardboard end bath panel, securely screwed with chromium plated dome headed screws to and including 38x50mm softwood framing complete with metal bath panel trim and remove waste and debris. | P27: =IF(M27="","",M27*(1+$B$8)) -> 57.2566
A28: 388005 | C28: R | D28: N | E28: Y | F28: N | G28: JR | H28: BATH PANEL:RENEW HARDBOARD SIDE END AND FRAMING | I28: Carpentry and Joinery | J28: Ducting and Bath Panels | K28: Bath Panels and Framing | L28: IT | M28: 128.8937 | N28: Bath Panel:Renew or supply and fix 4.8mm self finished hardboard side and end bath panels securely screwed with cp dome screws, 38x50mm softwood framing complete with metal bath panel trim. | O28: Bath Panel:Renew or supply and fix 4.8mm self finished hardboard side and end bath panels securely screwed with chromium plated dome screws to and including 38x50mm softwood framing complete with metal bath panel trim and remove waste and debris. | P28: =IF(M28="","",M28*(1+$B$8)) -> 128.8937
A29: 388007 | C29: R | D29: N | E29: Y | F29: N | G29: JR | H29: BATH PANEL:RENEW HARDBOARD SIDE EXISTING FRAMING | I29: Carpentry and Joinery | J29: Ducting and Bath Panels | K29: Bath Panels and Framing | L29: IT | M29: 28.833 | N29: Bath Panel:Renew or supply and fix 4.8mm self finished hardboard side bath panel securely screwed with chromium plated dome screws to existing framing and remove waste and debris. | O29: Bath Panel:Renew or supply and fix 4.8mm self finished hardboard side bath panel securely screwed with chromium plated dome screws to existing framing and remove waste and debris. | P29: =IF(M29="","",M29*(1+$B$8)) -> 28.833
A30: 388009 | C30: R | D30: N | E30: Y | F30: N | G30: JR | H30: BATH PANEL:RENEW HARDBOARD END EXISTING FRAMING | I30: Carpentry and Joinery | J30: Ducting and Bath Panels | K30: Bath Panels and Framing | L30: IT | M30: 23.2741 | N30: Bath Panel:Renew or supply and fix 4.8mm self finished hardboard end bath panel securely screwed with chromium plated dome screws to existing framing complete with metal bath panel trim. | O30: Bath Panel:Renew or supply and fix 4.8mm self finished hardboard end bath panel securely screwed with chromium plated dome screws to existing framing complete with metal bath trim and remove waste and debris. | P30: =IF(M30="","",M30*(1+$B$8)) -> 23.2741
A31: 388011 | C31: R | D31: N | E31: Y | F31: N | G31: JR | H31: BATH PANEL:RENEW HARDBD SIDE END EXISTING FRAMING | I31: Carpentry and Joinery | J31: Ducting and Bath Panels | K31: Bath Panels and Framing | L31: IT | M31: 43.6232 | N31: Bath Panel:Renew or supply and fix 4.8mm self finished hardboard side and end bath panels securely screwed with chromium plated dome screws to existing framing and metal bath panel trim. | O31: Bath Panel:Renew or supply and fix 4.8mm self finished hardboard side and end bath panels securely screwed with chromium plated dome screws to existing framing and including metal bath panel edge trim and remove waste and debris. | P31: =IF(M31="","",M31*(1+$B$8)) -> 43.6232
A32: 388013 | C32: R | D32: N | E32: Y | F32: N | G32: JR | H32: BATH PANEL:RENEW ACRYLIC SIDE | I32: Carpentry and Joinery | J32: Ducting and Bath Panels | K32: Bath Panels and Framing | L32: IT | M32: 67.9423 | N32: Bath Panel Panel:Renew or supply and fix proprietary acrylic side bath panel, colour to match, all plinths, trims, corner pieces and the like, securely fixed with brackets and make good. | O32: Bath Panel:Renew or supply and fix proprietary acrylic side bath panel, colour to match, including all plinths, trims, corner pieces and the like, securely fixed with brackets and make good and remove waste and debris. | P32: =IF(M32="","",M32*(1+$B$8)) -> 67.9423
A33: 388015 | C33: R | D33: N | E33: Y | F33: N | G33: JR | H33: BATH PANEL:RENEW ACRYLIC END | I33: Carpentry and Joinery | J33: Ducting and Bath Panels | K33: Bath Panels and Framing | L33: IT | M33: 42.3114 | N33: Bath Panel Panel:Renew or supply and fix proprietary acrylic end bath panel, colour to match, all plinths, trims, corner pieces and the like, securely fixed with brackets and make good. | O33: Bath Panel:Renew or supply and fix proprietary acrylic end bath panel, colour to match, including all plinths, trims, corner pieces and the like, securely fixed with brackets and make good and remove waste and debris. | P33: =IF(M33="","",M33*(1+$B$8)) -> 42.3114
A34: 388017 | C34: R | D34: N | E34: Y | F34: N | G34: JR | H34: BATH PANEL:RENEW ACRYLIC SIDE AND END | I34: Carpentry and Joinery | J34: Ducting and Bath Panels | K34: Bath Panels and Framing | L34: IT | M34: 98.9905 | N34: Bath Panel Panel:Renew or supply and fix proprietary acrylic side and end bath panel, colour to match, all plinths, trims, corner pieces etc, securely fixed with brackets, make good. | O34: Bath Panel:Renew or supply and fix proprietary acrylic side and end bath panel, colour to match, including all plinths, trims, corner pieces and the like, securely fixed with brackets and make good and remove waste and debris. | P34: =IF(M34="","",M34*(1+$B$8)) -> 98.9905
A35: 388019 | C35: U | D35: N | E35: N | F35: Y | G35: JR | H35: BATH PANEL:REMOVE AND REFIX ANY TYPE | I35: Carpentry and Joinery | J35: Ducting and Bath Panels | K35: Bath Panels and Framing | L35: NO | M35: 14.0428 | N35: Bath Panel:Remove and later refix any bath panel (side or end) including any corner angle trim, skirting etc. | O35: Bath Panel:Remove and later refix any bath panel (side or end) including any corner angle trim, skirting etc. | P35: =IF(M35="","",M35*(1+$B$8)) -> 14.0428
A36: 610101 | C36: R | D36: N | E36: Y | F36: N | G36: PL | H36: STACK:RENEW EXTERNAL PVCU COMPLETE NE 2 STOREY | I36: Plumbing | J36: Foul Drainage Above Ground | K36: Soil and Vent Stacks - External - PVCu | L36: IT | M36: 598.8967 | N36: Stack:Take down external soil stack complete to any dwelling ne 2 storey, renew with 110mm PVCu pipework with all fittings, make joints, fixed to structure, make good to structure, finishes, test. | O36: Stack:Take down external soil stack complete to any dwelling ne 2 storey and renew with 110mm PVCu pipework complete with all necessary wc branches, bends, offsets, waste bosses, pipes, brackets, access pipes, drain connector, terminal and slate if necessary including all cutting and making joints, fixing to any background, make good to structure including roofing, soffit or similar and make good to all finishes and test and remove waste and debris. | P36: =IF(M36="","",M36*(1+$B$8)) -> 598.8967
A37: 610103 | C37: R | D37: N | E37: Y | F37: N | G37: PL | H37: STACK:RENEW EXTERNAL PVCU COMPLETE 2 TO 4 STOREY | I37: Plumbing | J37: Foul Drainage Above Ground | K37: Soil and Vent Stacks - External - PVCu | L37: IT | M37: 885.4982 | N37: Stack:Take down external soil stack complete to any dwelling over 2, ne 4 storey, renew with 110mm PVCu pipework with all fittings, make joints, fixed to structure, make good, test. | O37: Stack:Take down external soil stack complete to any dwelling over 2, ne 4 storey and renew with 110mm PVCu pipework complete with all necessary wc branches, bends, offsets, waste bosses, pipes, brackets, access pipes, drain connector, terminal and slate if necessary including all cutting and making joints, fixing to any background, make good to structure including roofing, soffit or similar and make good to all finishes and test and remove waste and debris. | P37: =IF(M37="","",M37*(1+$B$8)) -> 885.4982
... A262: 635021 | C262: R | D262: N | E262: N | F262: N | G262: PL | H262: PIPE:REMOVE LEAD AND REPLACE WITH COPPER | I262: Plumbing | J262: Supply Pipework | K262: Copper Pipework - Renewals | L262: LM | M262: 38.9207 | N262: Pipe:Remove redundant lead pipework including all fittings, fix new 22mm copper pipe fixed with clips and including all made bends, connectors, fittings, make good finishes and remove waste and debris | O262: Pipe:Remove redundant lead pipework including all fittings, fix new 22mm copper pipe fixed with clips and including all made bends, connectors, fittings, make good finishes and remove waste and debris. | P262: =IF(M262="","",M262*(1+$B$8)) -> 38.9207
A263: 635101 | B263: New | C263: R | D263: N | E263: N | F263: N | G263: PL | H263: PIPE:RENEW OR INSTALL 15MM POLYBUTYLENE BARRIER | I263: Plumbing | J263: Supply Pipework | K263: Polybutylene Barrier Pipework - Renewals | L263: LM | M263: 22.7748 | N263: Pipe:Renew or fix new any 15mm diameter pipe with Polybutylene Barrier pipe fixed with clips and including all push fit connectors, fittings and any adaptors for jointing to pipes of other material. | O263: Pipe:Renew or fix new any 15mm diameter pipe with Polybutylene Barrier HEP20 or equal approved pipe fixed with clips and including all push fit connectors, fittings and any adaptors for jointing to pipes of other material, pipework to be installed in accordance with manufacturers instructions, Polybutylene products made by different manufacturers are not to be used together, remove waste and debris. | P263: =IF(M263="","",M263*(1+$B$8)) -> 22.7748
A264: 635103 | B264: New | C264: R | D264: N | E264: N | F264: N | G264: PL | H264: PIPE:RENEW OR INSTALL 22MM POLYBUTYLENE BARRIER | I264: Plumbing | J264: Supply Pipework | K264: Polybutylene Barrier Pipework - Renewals | L264: LM | M264: 25.1733 | N264: Pipe:Renew or fix new any 22mm diameter pipe with Polybutylene Barrier pipe fixed with clips and including all push fit connectors, fittings and any adaptors for jointing to pipes of other material. | O264: Pipe:Renew or fix new any 22mm diameter pipe with Polybutylene Barrier HEP20 or equal approved pipe fixed with clips and including all push fit connectors, fittings and any adaptors for jointing to pipes of other material, pipework to be installed in accordance with manufacturers instructions, Polybutylene products made by different manufacturers are not to be used together, remove waste and debris. | P264: =IF(M264="","",M264*(1+$B$8)) -> 25.1733
A265: 635105 | B265: New | C265: R | D265: N | E265: N | F265: N | G265: PL | H265: PIPE:RENEW OR INSTALL 28MM POLYBUTYLENE BARRIER | I265: Plumbing | J265: Supply Pipework | K265: Polybutylene Barrier Pipework - Renewals | L265: LM | M265: 27.9696 | N265: Pipe:Renew or fix new any 28mm diameter pipe with Polybutylene Barrier pipe fixed with clips and including all push fit connectors, fittings and any adaptors for jointing to pipes of other material. | O265: Pipe:Renew or fix new any 28mm diameter pipe with Polybutylene Barrier HEP20 or equal approved pipe fixed with clips and including all push fit connectors, fittings and any adaptors for jointing to pipes of other material, pipework to be installed in accordance with manufacturers instructions, Polybutylene products made by different manufacturers are not to be used together, remove waste and debris. | P265: =IF(M265="","",M265*(1+$B$8)) -> 27.9696
A266: 635111 | B266: New | C266: R | D266: N | E266: N | F266: N | G266: PL | H266: PIPE:RENEW OR INSTALL 15MM POLYBUTYLENE STANDARD | I266: Plumbing | J266: Supply Pipework | K266: Polybutylene Standard Pipework - Renewals | L266: LM | M266: 22.4706 | N266: Pipe:Renew or fix new any 15mm diameter pipe with Polybutylene Standard pipe fixed with clips and including all push fit connectors, fittings and any adaptors for jointing to pipes of other material. | O266: Pipe:Renew or fix new any 15mm diameter pipe with Polybutylene Standard HEP20 or equal approved pipe fixed with clips and including all push fit connectors, fittings and any adaptors for jointing to pipes of other material, pipework to be installed in accordance with manufacturers instructions, Polybutylene products made by different manufacturers are not to be used together, remove waste and debris. | P266: =IF(M266="","",M266*(1+$B$8)) -> 22.4706
A267: 635113 | B267: New | C267: R | D267: N | E267: N | F267: N | G267: PL | H267: PIPE:RENEW OR INSTALL 22MM POLYBUTYLENE STANDARD | I267: Plumbing | J267: Supply Pipework | K267: Polybutylene Standard Pipework - Renewals | L267: LM | M267: 24.6 | N267: Pipe:Renew or fix new any 22mm diameter pipe with Polybutylene Standard pipe fixed with clips and including all push fit connectors, fittings and any adaptors for jointing to pipes of other material. | O267: Pipe:Renew or fix new any 22mm diameter pipe with Polybutylene Standard HEP20 or equal approved pipe fixed with clips and including all push fit connectors, fittings and any adaptors for jointing to pipes of other material, pipework to be installed in accordance with manufacturers instructions, Polybutylene products made by different manufacturers are not to be used together, remove waste and debris. | P267: =IF(M267="","",M267*(1+$B$8)) -> 24.6
A268: 635115 | B268: New | C268: R | D268: N | E268: N | F268: N | G268: PL | H268: PIPE:RENEW OR INSTALL 28MM POLYBUTYLENE STANDARD | I268: Plumbing | J268: Supply Pipework | K268: Polybutylene Standard Pipework - Renewals | L268: LM | M268: 26.8932 | N268: Pipe:Renew or fix new any 28mm diameter pipe with Polybutylene Standard pipe fixed with clips and including all push fit connectors, fittings and any adaptors for jointing to pipes of other material. | O268: Pipe:Renew or fix new any 28mm diameter pipe with Polybutylene Standard HEP20 or equal approved pipe fixed with clips and including all push fit connectors, fittings and any adaptors for jointing to pipes of other material, pipework to be installed in accordance with manufacturers instructions, Polybutylene products made by different manufacturers are not to be used together, remove waste and debris. | P268: =IF(M268="","",M268*(1+$B$8)) -> 26.8932
A269: 635301 | C269: R | D269: N | E269: N | F269: N | G269: PL | H269: TEE:INSTALL 15MM TO EXISTING COPPER PIPEWORK | I269: Plumbing | J269: Supply Pipework | K269: Copper Pipework - Extensions | L269: NO | M269: 14.5916 | N269: Tee:Cut into any existing copper service pipework and fix new 15mm tee for installation extension. | O269: Tee:Cut into any existing copper service pipework and fix new 15mm tee for installation extension. | P269: =IF(M269="","",M269*(1+$B$8)) -> 14.5916
...

Sheet Lot 3
A1: BAF26028 DLO Support Framework – Lot 3: Heating Installations
A3: Price Schedule
A5: Tenderers must complete the yellow highlighted cells. Enter the proposed percentage adjustment in cell B8. Enter an uplift as a positive percentage (for example 10%) or a discount as a negative percentage (for example -10%). The adjustment is applied to every published SOR Rate and the adjusted total is shown in cell B8. All submitted prices must be fully inclusive of all costs associated with delivery unless expressly stated otherwise in the Tender Documents. No additional expenses or charges will be payable.
A8: SOR Proposed Adjustment %
A9: Total Amount (to be used for evaluation purposes) | B9: =SUM(M12:M1384) -> 1000560.2
A11: Document Code | B11: New v8 | C11: Priority | D11: Short Description | E11: Column 5 | F11: Element | G11: Section | H11: Subsection | I11: UOM | J11: SOR Rate | K11: Medium Description | L11: Long Description | M11: Adjusted SOR Rate
A12: BI110201 | C12: R | D12: SOLID FUEL OR BIOMASS BOILER:BREAKDOWN NO PARTS | F12: Solid Fuel or Biomass Appliances | G12: Solid Fuel or Biomass Appliances | H12: Solid Fuel or Biomass Appliances - Breakdowns | I12: IT | J12: 108.3853 | K12: Solid Fuel or Biomass Boiler:Attend to breakdown, test operation of boiler, clean parts, air ducts and fan, check operation, adjust, check, reset controls, test, remove waste and debris. | L12: Solid Fuel or Biomass Boiler:Attend to breakdown, test operation of boiler, clean all specified parts, check operation of flue draught stabiliser and moveable parts, de-clinking mechanism, clean any secondary air ducts, check fuel regulator blades, check operation of thermostat, clean any fan, and adjust air regulator, check correct setting and operation of any air control mechanism, check fans and reset to manufacturers technical data sheet, make good, test and remove waste and debris. | M12: =IF(J12="","",J12*(1+$B$8)) -> 108.3853
A13: BI110202 | C13: R | D13: SOLID FUEL OR BIOMASS BOILER:BREAKDOWN PARTS NE£10 | F13: Solid Fuel or Biomass Appliances | G13: Solid Fuel or Biomass Appliances | H13: Solid Fuel or Biomass Appliances - Breakdowns | I13: IT | J13: 120.0853 | K13: Solid Fuel or Biomass Boiler:Attend to breakdown, test, check operation, minor renewals or repairs (parts cost allowance £10.00) clean, reset, report to CR (can only be claimed if instructed by CR). | L13: Solid Fuel or Biomass Boiler:Attend to breakdown, test operation of boiler, clean all specified parts, check operation of flue draught stabilise and moveable parts, de-clinking mechanism, clean any secondary air ducts, undertake minor renewals or repairs to remedy fault (parts cost allowance £10.00) check fuel regulator blades, check operation of thermostat, clean any fan, and adjust air regulator, check correct setting and operation of any air control mechanism, check fans and reset to manufacturers technical data sheet, make good, test, leave in full working order and report to Client representative and remove waste and debris (can only be claimed if instructed by Client Representative). | M13: =IF(J13="","",J13*(1+$B$8)) -> 120.0853
A14: BI110203 | C14: R | D14: SOLID FUEL OR BIOMASS BOILER:BREAKDOWN PARTS NE£50 | F14: Solid Fuel or Biomass Appliances | G14: Solid Fuel or Biomass Appliances | H14: Solid Fuel or Biomass Appliances - Breakdowns | I14: IT | J14: 166.8852 | K14: Solid Fuel or Biomass Boiler:Attend to breakdown, test, check operation, minor renewals or repairs (parts cost allowance £50.00) clean, reset, report to CR (can only be claimed if instructed by CR). | L14: Solid Fuel or Biomass Boiler:Attend to breakdown, test operation of boiler, clean all specified parts, check operation of flue draught stabilise and moveable parts, de-clinking mechanism, clean any secondary air ducts, undertake minor renewals or repairs to remedy fault (parts cost allowance £50.00) check fuel regulator blades, check operation of thermostat, clean any fan, and adjust air regulator, check correct setting and operation of any air control mechanism, check fans and reset to manufacturers technical data sheet, make good, test, leave in full working order and report to Client Representative and remove waste and debris (can only be claimed if instructed by Client Representative). | M14: =IF(J14="","",J14*(1+$B$8)) -> 166.8852
